BEGIN:VCALENDAR
VERSION:2.0
PRODID:-//hacksw/handcal//NONSGML v1.0//EN
BEGIN:VEVENT
UID:noreply@gaycalgary.com
DTSTAMP:20081009T000000
DTSTART:20081009T200000
DTEND:20081009T220000
SUMMARY:Gymnastics
DESCRIPTION:Have you ever had the urge to swing on the bar or bounce on the trampoline? Gymnastics is for adults too! Why not drop in Tuesday and Thursday evenings between 8:00-10:00 p.m. and see for yourself? As adults\, you have the whole gym to yourselves and an instructor to help you achieve your individual goals. Cost is $5.00 per session.
	 
	gymnastics@teamedmonton.ca
LOCATION:Ortona Gymnastics Club
	8755 - 50 Avenue
END:VEVENT
END:VCALENDAR