BEGIN:VCALENDAR
VERSION:2.0
PRODID:-//hacksw/handcal//NONSGML v1.0//EN
BEGIN:VEVENT
UID:noreply@gaycalgary.com
DTSTAMP:20081020T000000
DTSTART:20081020T190000
DTEND:20081020T201500
SUMMARY:Blazin' Boot Camp
DESCRIPTION:For more information about bootcamp\, email bootcamp@teamedmonton.ca
	
LOCATION:Oliver Community Hall (Outdoors)
	10326 - 118 Street
END:VEVENT
END:VCALENDAR