BEGIN:VCALENDAR
VERSION:2.0
PRODID:-//hacksw/handcal//NONSGML v1.0//EN
BEGIN:VEVENT
UID:noreply@gaycalgary.com
DTSTAMP:20090407T000000
DTSTART:20090407T210000
DTEND:20090407T220000
SUMMARY:Board Meeting
DESCRIPTION:Open to public\, for more information email lj_steele@hotmail.com!
LOCATION:Location TBA at previous meetings.
END:VEVENT
END:VCALENDAR