BEGIN:VCALENDAR
VERSION:2.0
PRODID:-//hacksw/handcal//NONSGML v1.0//EN
BEGIN:VEVENT
UID:noreply@gaycalgary.com
DTSTAMP:20090324T000000
DTSTART:20090324T200000
DTEND:20090324T200000
SUMMARY:Shooters at the Texas Lounge
DESCRIPTION:
LOCATION:The Texas Lounge - Texas Lounge
	308B - 17th Avenue SW
	Calgary
END:VEVENT
END:VCALENDAR