BEGIN:VCALENDAR
VERSION:2.0
PRODID:-//hacksw/handcal//NONSGML v1.0//EN
BEGIN:VEVENT
UID:noreply@gaycalgary.com
DTSTAMP:20080524T000000
DTSTART:20080524T200000
DTEND:20080524T020000
SUMMARY:Show Your Colours
DESCRIPTION:In celebration of Pride and Queer Culture - Pride Calgary proudly presents Show Your Colors\, our first dance event this year. Come out and show your own true colors and dress to your theme. 
	
	Amazing Door Prizes from Blame Betty\, Second Cup and more!
	Featuring DJ Nikki.B.Nottie - Cabin Fever - Eagle
	Guest DJ's
	Bar Service and Snacks 18+
	
LOCATION:South Calgary Community Centre
	1330 - 16 Street SW
	Calgary\, AB
END:VEVENT
END:VCALENDAR