BEGIN:VCALENDAR
VERSION:2.0
PRODID:-//hacksw/handcal//NONSGML v1.0//EN
BEGIN:VEVENT
UID:noreply@gaycalgary.com
DTSTAMP:20080530T000000
DTSTART:20080530T235500
DTEND:20080530T235500
SUMMARY:Pride Guide Submission Deadline
DESCRIPTION:GayCalgary and Edmonton Magaine is proud to bring you the Official Pride Calgary Pride Guide 2008!
	
	This one-of-a-kind guid also includes event information for Edmonton Pride 2008\, and ARGRA.
LOCATION:N/A
END:VEVENT
END:VCALENDAR