BEGIN:VCALENDAR
VERSION:2.0
PRODID:-//hacksw/handcal//NONSGML v1.0//EN
BEGIN:VEVENT
UID:noreply@gaycalgary.com
DTSTAMP:20080524T000000
DTSTART:20080524T200000
DTEND:20080524T200000
SUMMARY:RENT
DESCRIPTION:Now featuring AMERICAN IDOL finalist ANWAR ROBINSON as "Tom Collins" and South African Idol winner HEINZ WINCKLER as "Roger".
	Tickets: Ticketmaster
	Charge by Phone: (403) 777-0000
	Online: www.ticketmaster.ca
	
	ON SALE NOW!
	
LOCATION:Southern Alberta Jubilee Autitorium
END:VEVENT
END:VCALENDAR