BEGIN:VCALENDAR
VERSION:2.0
PRODID:-//hacksw/handcal//NONSGML v1.0//EN
BEGIN:VEVENT
UID:noreply@gaycalgary.com
DTSTAMP:20080628T000000
DTSTART:20080628T210000
DTEND:20080628T020000
SUMMARY:Gay Rodeo
DESCRIPTION:
LOCATION:Symon's Valley Ranch
END:VEVENT
END:VCALENDAR