BEGIN:VCALENDAR
VERSION:2.0
PRODID:-//hacksw/handcal//NONSGML v1.0//EN
BEGIN:VEVENT
UID:noreply@gaycalgary.com
DTSTAMP:20080603T000000
DTSTART:20080603T213000
DTEND:20080603T213000
SUMMARY:Film Festival
DESCRIPTION:THE NEW WORLD (Le Noveau Monde) (92min) - Director Etienne Dhaene (2007)
LOCATION:The Plaza Theatre
END:VEVENT
END:VCALENDAR