BEGIN:VCALENDAR
VERSION:2.0
PRODID:-//hacksw/handcal//NONSGML v1.0//EN
BEGIN:VEVENT
UID:noreply@gaycalgary.com
DTSTAMP:20080601T000000
DTSTART:20080601T160000
DTEND:20080601T160000
SUMMARY:Film Festival
DESCRIPTION:TIED HANDS (90min) - Directed by Dan Wolman (2006)
LOCATION:The Plaza Theatre
END:VEVENT
END:VCALENDAR