BEGIN:VCALENDAR
VERSION:2.0
PRODID:-//hacksw/handcal//NONSGML v1.0//EN
BEGIN:VEVENT
UID:noreply@gaycalgary.com
DTSTAMP:20080601T000000
DTSTART:20080601T120000
DTEND:20080601T120000
SUMMARY:Film Festival
DESCRIPTION:Cinematic Sexplorers & Straddling the Mainstream: A Conversation in 2 Parts
	Join our panel of filmmakers and artists who discuss sex\, sexuality and innovation in queer cinema.  See www.fairytalesfilmfest.com for our full line-up of guests.
LOCATION:Nickle Arts Museum
	University of Calgary
END:VEVENT
END:VCALENDAR