BEGIN:VCALENDAR
VERSION:2.0
PRODID:-//hacksw/handcal//NONSGML v1.0//EN
BEGIN:VEVENT
UID:noreply@gaycalgary.com
DTSTAMP:20080606T000000
DTSTART:20080606T210000
DTEND:20080606T210000
SUMMARY:Mr. Priape Wear Calgary
DESCRIPTION:DO YOU HAVE WHAT IT TAKES?
	
	Winners Receive:
	- All expense paid trip to Montreal for finals
	- A chance to win a Priape Wear modeling contract
	- A total prize pool valued at over $12\,000
	
	Enter online!  Grand Finale - Montreal\, June 20-22nd 2008
LOCATION:Calgary Eagle Inc.
	424a 8th Avenue SE
	Calgary
END:VEVENT
END:VCALENDAR