BEGIN:VCALENDAR
VERSION:2.0
PRODID:-//hacksw/handcal//NONSGML v1.0//EN
BEGIN:VEVENT
UID:noreply@gaycalgary.com
DTSTAMP:20080501T000000
DTSTART:20080501T180000
DTEND:20080501T190000
SUMMARY:Swim Practice
DESCRIPTION:Enter via the regular doors to the activity centre\, go down stairs and gain access to the locker rooms via the entry doors (just tell them you are with the swim team renting the pool - they should know\, but.....).
	
	You can park for free in P1 parking lot which is just below the Alberta College of Art building and just across the LRT tracks from the SAIT activity centre.  
	
	Take your parking ticket with you to be validated at the pool - don't get it wet or it will not work on exiting the parking lot.
	
	Map at http://www.differentstrokescalgary.org (under the "Schedule" link)
	
LOCATION:SAIT Pool
	1301 16 Ave NW
END:VEVENT
END:VCALENDAR