BEGIN:VCALENDAR
VERSION:2.0
PRODID:-//hacksw/handcal//NONSGML v1.0//EN
BEGIN:VEVENT
UID:noreply@gaycalgary.com
DTSTAMP:20090125T000000
DTSTART:20090125T103000
DTEND:20090125T103000
SUMMARY:United Church Worship
DESCRIPTION:People of all sexual orientatioins welcome.
LOCATION:Robertson-Wesley United Church
	10209 123 Street NW
END:VEVENT
END:VCALENDAR