BEGIN:VCALENDAR
VERSION:2.0
PRODID:-//hacksw/handcal//NONSGML v1.0//EN
BEGIN:VEVENT
UID:noreply@gaycalgary.com
DTSTAMP:20080621T000000
DTSTART:20080621T123000
DTEND:20080621T123000
SUMMARY:Curling
DESCRIPTION:The 17th season of Apollo curling.  Same general format as last year.  Games are at the North Hill Curling Club (1201 - 2 Street NW) with two draws on Saturdays: 2:20pm and 4:30pm and at the Inglewood Golf and Curling Club\, Staturdays at 12:30pm.
LOCATION:Inglewood Golf and Curling Club
END:VEVENT
END:VCALENDAR