BEGIN:VCALENDAR
VERSION:2.0
PRODID:-//hacksw/handcal//NONSGML v1.0//EN
BEGIN:VEVENT
UID:noreply@gaycalgary.com
DTSTAMP:20080301T000000
DTSTART:20080301T190000
DTEND:20080301T190000
SUMMARY:AFQOL Gala and Awards
DESCRIPTION:Gala Awards Celebration and 2008 Launch Party
	
	Hosted by the lovely Linda Huston and the dazzling Debi Leong.
	7pm cocktails\, 8pm show and awards
LOCATION:BackLot
	209 - 10th Avenue SW
END:VEVENT
END:VCALENDAR