BEGIN:VCALENDAR
VERSION:2.0
PRODID:-//hacksw/handcal//NONSGML v1.0//EN
BEGIN:VEVENT
UID:noreply@gaycalgary.com
DTSTAMP:20080306T000000
DTSTART:20080306T193000
DTEND:20080306T193000
SUMMARY:Swimming
DESCRIPTION:Since 1999 our mission has been to promote the masters' swimming philosophy of "Fun\, Fitness\, Friendship & Participation" in a gay positive and supportive environment for all swimmers.   
	
	We offer two practices a week with friendly and supportive coaches for novices\, as well as competitive swimmers\, and organize social events outside the pool for our swimmers and their friends.
	
	Tuesdays: 8pm-9pm
	Thursdays: 7:30pm-8:30pm
	
	Public entry to the pool is on the west side of the building through the sliding doors and down the ramp on the left. 
	
	Parking in NAIT lots is paid but free street parking is available north of the campus on 109 Street and 118 Ave.
LOCATION:Northern Alberta Institute of Technology (NAIT) pool
	11762 - 106 Street
END:VEVENT
END:VCALENDAR