BEGIN:VCALENDAR
VERSION:2.0
PRODID:-//hacksw/handcal//NONSGML v1.0//EN
BEGIN:VEVENT
UID:noreply@gaycalgary.com
DTSTAMP:20071231T000000
DTSTART:20071231T210000
DTEND:20071231T210000
SUMMARY:Pre New Years Party
DESCRIPTION:IBLAMEROBOT w/ A [SOH-Shuhl] Art
	$6.00 Cover includes Champagne from I.B.R.
	Bands on at 9pm
LOCATION:Vern's
	622 8th Avenue SW
END:VEVENT
END:VCALENDAR