BEGIN:VCALENDAR
VERSION:2.0
PRODID:-//hacksw/handcal//NONSGML v1.0//EN
BEGIN:VEVENT
UID:noreply@gaycalgary.com
DTSTAMP:20080119T000000
DTSTART:20080119T193000
DTEND:20080119T193000
SUMMARY:Monthly Dance
DESCRIPTION:ARGRA Fundraising Dance
LOCATION:Hillhurst-Sunnyside Community Hall
	1320 5th Ave NW
END:VEVENT
END:VCALENDAR