BEGIN:VCALENDAR
VERSION:2.0
PRODID:-//hacksw/handcal//NONSGML v1.0//EN
BEGIN:VEVENT
UID:noreply@gaycalgary.com
DTSTAMP:20080103T000000
DTSTART:20080103T190000
DTEND:20080103T190000
SUMMARY:Soccer
DESCRIPTION:Weather permitting.
LOCATION:Oliver School (South Field)
	10227 - 118 Street
END:VEVENT
END:VCALENDAR