BEGIN:VCALENDAR
VERSION:2.0
PRODID:-//hacksw/handcal//NONSGML v1.0//EN
BEGIN:VEVENT
UID:noreply@gaycalgary.com
DTSTAMP:20071012T000000
DTSTART:20071012T233000
DTEND:20071012T113000
SUMMARY:Martini Mayhem
DESCRIPTION:Doors at 8pm\, Show at 11:32pm
LOCATION:The Roost
END:VEVENT
END:VCALENDAR