BEGIN:VCALENDAR
VERSION:2.0
PRODID:-//hacksw/handcal//NONSGML v1.0//EN
BEGIN:VEVENT
UID:noreply@gaycalgary.com
DTSTAMP:20071231T000000
DTSTART:20071231T191500
DTEND:20071231T211500
SUMMARY:Curling
DESCRIPTION:Curling With Pride
LOCATION:Granite Curling Club
	8620 - 107th Street
END:VEVENT
END:VCALENDAR