BEGIN:VCALENDAR
VERSION:2.0
PRODID:-//hacksw/handcal//NONSGML v1.0//EN
BEGIN:VEVENT
UID:noreply@gaycalgary.com
DTSTAMP:20080531T000000
DTSTART:20080531T170000
DTEND:20080531T170000
SUMMARY:Northern Titans Bowling
DESCRIPTION:Northern Titans Bowling
	$15.00 per person.
LOCATION:Gateway Lanes
	#100 3414 Gateway Blvd
END:VEVENT
END:VCALENDAR