BEGIN:VCALENDAR
VERSION:2.0
PRODID:-//hacksw/handcal//NONSGML v1.0//EN
BEGIN:VEVENT
UID:noreply@gaycalgary.com
DTSTAMP:20080528T000000
DTSTART:20080528T180000
DTEND:20080528T180000
SUMMARY:Badminton
DESCRIPTION:Women's Drop-In Recreational Badminton
	
	Levels: Beginner\, Intermediate\, and Competitive.
	Fees: $30.00 for the season or $5.00 drop in.
LOCATION:Oliver School Gym
	10227 - 118 Street
END:VEVENT
END:VCALENDAR