BEGIN:VCALENDAR
VERSION:2.0
PRODID:-//hacksw/handcal//NONSGML v1.0//EN
BEGIN:VEVENT
UID:noreply@gaycalgary.com
DTSTAMP:20080427T000000
DTSTART:20080427T160000
DTEND:20080427T160000
SUMMARY:Sunday Mass
DESCRIPTION:
LOCATION:Hillhurst United Church\, 1227 Kensington Close NW
END:VEVENT
END:VCALENDAR