BEGIN:VCALENDAR
VERSION:2.0
PRODID:-//hacksw/handcal//NONSGML v1.0//EN
BEGIN:VEVENT
UID:noreply@gaycalgary.com
DTSTAMP:20071220T000000
DTSTART:20071220T190000
DTEND:20071220T190000
SUMMARY:Get Straight - Cocaine Anonymous
DESCRIPTION:Sick and tired of being sick and tired?
LOCATION:Pride Centre of Edmonton
	95A Street and 111 Avenue
END:VEVENT
END:VCALENDAR