BEGIN:VCALENDAR
VERSION:2.0
PRODID:-//hacksw/handcal//NONSGML v1.0//EN
BEGIN:VEVENT
UID:noreply@gaycalgary.com
DTSTAMP:20081011T000000
DTSTART:20081011T120000
DTEND:20081011T120000
SUMMARY:AA Big Book Study
DESCRIPTION:Suit up and show up - big book study.
LOCATION:Pride Centre of Edmonton
	95A Street and 111 Avenue
END:VEVENT
END:VCALENDAR