BEGIN:VCALENDAR
VERSION:2.0
PRODID:-//hacksw/handcal//NONSGML v1.0//EN
BEGIN:VEVENT
UID:noreply@gaycalgary.com
DTSTAMP:20080511T000000
DTSTART:20080511T143000
DTEND:20080511T143000
SUMMARY:Social Meeting
DESCRIPTION:Social period\, short business meeting and then either a guest speaker\, discussion panel\, or a potluck super.
LOCATION:Unitarian Church of Edmonton
	10804 - 119th Street
END:VEVENT
END:VCALENDAR