BEGIN:VCALENDAR
VERSION:2.0
PRODID:-//hacksw/handcal//NONSGML v1.0//EN
BEGIN:VEVENT
UID:noreply@gaycalgary.com
DTSTAMP:20080105T000000
DTSTART:20080105T190000
DTEND:20080105T190000
SUMMARY:Youth Understanding Youth
DESCRIPTION:Youth support and social group.
LOCATION:Pride Centre of Edmonton
	95A Street and 111th Avenue
END:VEVENT
END:VCALENDAR