BEGIN:VCALENDAR
VERSION:2.0
PRODID:-//hacksw/handcal//NONSGML v1.0//EN
BEGIN:VEVENT
UID:noreply@gaycalgary.com
DTSTAMP:20170512T000000
DTSTART:20170512T190000
DTEND:20170512T190000
SUMMARY:CAKE Social & Show
DESCRIPTION:ISCWR Presents: CAKE Social &amp; Show
	
	The night begins with a cake social. Mr. Silver &amp; The Sweets will provide some jazzy smooth tunes for you while you eat and socialize. There will be a short break for everyone and find a seat for the drag show.&nbsp;
	
	Door &amp; Social 7:00pm&nbsp;
	Door Cover $5
	Cake Slice $5
	
	Proceeds to the charities of the 41st Reign.
LOCATION:Evolution Wonderlounge
	10220 103 Street
	Edmonton
END:VEVENT
END:VCALENDAR