BEGIN:VCALENDAR
VERSION:2.0
PRODID:-//hacksw/handcal//NONSGML v1.0//EN
BEGIN:VEVENT
UID:noreply@gaycalgary.com
DTSTAMP:20170303T000000
DTSTART:20170303T203000
DTEND:20170303T203000
SUMMARY:Puppy Chow
DESCRIPTION:ISCWR Presents! Puppy Chow!&nbsp;
	A Human Pup Adoption Night and Show!
	
	The Duchess of the Imperial Sovereign Court of the Wild Rose\, Lucy Lips is excited to display our pups up for adoption!
	Not only do you get a spiffy certificate of adoption\,&nbsp;each adoption will include a gift card or item with the pup!
	
	All our pups are from Edmonton Pups and Handlers (YEG-PAH)
	
	Your auctioneer for the night is TWIGGY!
	
	We welcome every part of the community ( leather/kink\, bear\, burlesque and alternative sexuality groups.)\n
	
	\n
	
	Performances focus on the “edgy/kink&quot; interested in performing please contact Lucian Wolfe or thelucianwolfe@gmail.com *SPACE IS VERY LIMITED DUE TO TIME*\n
	
	\n
	
	Doors and protocol at 8:30 pm.\n
	
	Show at 9 pm\n
	
	Cover: $5 suggested donation\n
	
	\n
	
	All Money Raised for The Pride Centre of Edmonton
LOCATION:Evolution Wonderlounge
	10220 103 Street
	Edmonton
END:VEVENT
END:VCALENDAR