BEGIN:VCALENDAR
VERSION:2.0
PRODID:-//hacksw/handcal//NONSGML v1.0//EN
BEGIN:VEVENT
UID:noreply@gaycalgary.com
DTSTAMP:20071208T000000
DTSTART:20071208T140000
DTEND:20071208T140000
SUMMARY:Saturday Movie Night
DESCRIPTION:Weekly movie nights\, with themed movies and discussion afterwards.
LOCATION:Pride Centre of Edmonton
	95A Street and 111th Avenue
END:VEVENT
END:VCALENDAR