BEGIN:VCALENDAR
VERSION:2.0
PRODID:-//hacksw/handcal//NONSGML v1.0//EN
BEGIN:VEVENT
UID:noreply@gaycalgary.com
DTSTAMP:20120609T000000
DTSTART:20120609T210000
DTEND:20120609T210000
SUMMARY:Calgary Dance
DESCRIPTION:
LOCATION:The Starlight Room
	102 St & 100 Ave
	Edmonton\, AB
END:VEVENT
END:VCALENDAR