BEGIN:VCALENDAR
VERSION:2.0
PRODID:-//hacksw/handcal//NONSGML v1.0//EN
BEGIN:VEVENT
UID:noreply@gaycalgary.com
DTSTAMP:20111029T000000
DTSTART:20111029T193000
DTEND:20111029T193000
SUMMARY:Dance
DESCRIPTION:
LOCATION:Bellevue Hall
	7308 - 112 Ave NW
	Calgary\, AB
END:VEVENT
END:VCALENDAR