BEGIN:VCALENDAR
VERSION:2.0
PRODID:-//hacksw/handcal//NONSGML v1.0//EN
BEGIN:VEVENT
UID:noreply@gaycalgary.com
DTSTAMP:20111120T000000
DTSTART:20111120T170000
DTEND:20111120T200000
SUMMARY:BigDaddy's Perogy Dinner
DESCRIPTION:
			BigDaddy serves up a meal of perogies\, kielbasa and cole slaw.\n
	\n
	 ALL YOU CAN EAT!\n
	\n
	 $10.00\n
	 Show your ISCWR membership card and get $1.00 off!\n
	\n
	 All proceeds to the Charities of the ISCWR
	
LOCATION:The Junction - Bar & Eatery
	10242 - 106th Street NW
	Edmonton
END:VEVENT
END:VCALENDAR