BEGIN:VCALENDAR
VERSION:2.0
PRODID:-//hacksw/handcal//NONSGML v1.0//EN
BEGIN:VEVENT
UID:noreply@gaycalgary.com
DTSTAMP:20110928T000000
X-FUNAMBOL-ALLDAY:true;
X-MICROSOFT-CDO-ALLDAYEVENT:true;
DTSTART;VALUE=DATE:20110928
DTEND;VALUE=DATE:20110929
SUMMARY:Calgary International Film Fest
DESCRIPTION:
LOCATION:Calgary\, AB
END:VEVENT
END:VCALENDAR