BEGIN:VCALENDAR
VERSION:2.0
PRODID:-//hacksw/handcal//NONSGML v1.0//EN
BEGIN:VEVENT
UID:noreply@gaycalgary.com
DTSTAMP:20110708T000000
DTSTART:20110708T170000
DTEND:20110708T170000
SUMMARY:Drag Queen H2O
DESCRIPTION:
			BBQ @ 5pm | Show @ 8pm\n\n
	
	
LOCATION:BackLot - Main Location
	209 - 10th Avenue SW
	Calgary
END:VEVENT
END:VCALENDAR