BEGIN:VCALENDAR
VERSION:2.0
PRODID:-//hacksw/handcal//NONSGML v1.0//EN
BEGIN:VEVENT
UID:noreply@gaycalgary.com
DTSTAMP:20101205T000000
DTSTART:20101205T170000
DTEND:20101205T220000
SUMMARY:Special Fundraising Drag Show
DESCRIPTION:Will be serving Grilled Chicken with a tarragon white wine sauce with 
	risotto and stir fried broccoli.  Doors open at 5pm Dinner at 6:30/7pm 
	Show at 8:30/9pm.
LOCATION:Club Sapien
	1140 10 Avenue SW
	Calgary
END:VEVENT
END:VCALENDAR