BEGIN:VCALENDAR
VERSION:2.0
PRODID:-//hacksw/handcal//NONSGML v1.0//EN
BEGIN:VEVENT
UID:noreply@gaycalgary.com
DTSTAMP:20101126T000000
DTSTART:20101126T200000
DTEND:20101126T223000
SUMMARY:Crowns for Kids
DESCRIPTION:Put a smile on the face of a child less fortunate.\n
	\n
	Protocol 8 PM\, Showtime 9 PM\n
	\n
	Suggested door donation $10.00 or a new unwrapped toy will get you a ticket for the door prize.\n
	\n
	Hosted by Empress XXXV Elect Dee Luv.\n
	\n
	All proceeds to make Christmas day a happy one for children.\n
	\n
	
LOCATION:The Junction - Bar & Eatery
	10242 - 106th Street NW
	Edmonton
END:VEVENT
END:VCALENDAR