BEGIN:VCALENDAR
VERSION:2.0
PRODID:-//hacksw/handcal//NONSGML v1.0//EN
BEGIN:VEVENT
UID:noreply@gaycalgary.com
DTSTAMP:20101030T000000
DTSTART:20101030T200000
DTEND:20101030T010000
SUMMARY:Fundraiser
DESCRIPTION:Cost: $15.00 (entry\, snacks\, games\, DJ)\n
	Cash Bar: $4.00 each drink ticket\, or $10 for 3 tickets\n
	RSVP: dragonboat@teamedmonton.ca\n
	&nbsp;\n
	** Door Prize! Best Costume Prize! **&nbsp; and yes... THE BEER BONG will be there alongside our newest addition\, THE PADDLE POUNDER! \n
	All proceeds go to Flaming Dragons &amp; OCC\n
	- Each team has ONLY 75 tickets for sale!!!&nbsp; This will sell out FAST! &nbsp;\n
	Oh yeah..... Costumes are MANDATORY ;)\n
	
LOCATION:Greenfield Community League
	3803 114th Street S
	Edmonton
END:VEVENT
END:VCALENDAR