BEGIN:VCALENDAR
VERSION:2.0
PRODID:-//hacksw/handcal//NONSGML v1.0//EN
BEGIN:VEVENT
UID:noreply@gaycalgary.com
DTSTAMP:20101213T000000
DTSTART:20101213T193000
DTEND:20101213T203000
SUMMARY:Blazin' Boot Camp
DESCRIPTION:Please enter from doors next to the gym on 86th Ave.&nbsp; &nbsp;\n
	All fitness levels\, genders and ages welcome.\n
	
LOCATION:Garneau Elementary School
	10925-87 Ave
	Edmonton
END:VEVENT
END:VCALENDAR