BEGIN:VCALENDAR
VERSION:2.0
PRODID:-//hacksw/handcal//NONSGML v1.0//EN
BEGIN:VEVENT
UID:noreply@gaycalgary.com
DTSTAMP:20101205T000000
DTSTART:20101205T170000
DTEND:20101205T180000
SUMMARY:Swim Practice
DESCRIPTION:
LOCATION:SAIT Pool
END:VEVENT
END:VCALENDAR