BEGIN:VCALENDAR
VERSION:2.0
PRODID:-//hacksw/handcal//NONSGML v1.0//EN
BEGIN:VEVENT
UID:noreply@gaycalgary.com
DTSTAMP:20101019T000000
DTSTART:20101019T210000
DTEND:20101019T210000
SUMMARY:Men's Night
DESCRIPTION:
LOCATION:FAB (formerly Money Pennies) - Bar
	1742 10 AVE S.W. 
	Calgary
END:VEVENT
END:VCALENDAR