BEGIN:VCALENDAR
VERSION:2.0
PRODID:-//hacksw/handcal//NONSGML v1.0//EN
BEGIN:VEVENT
UID:noreply@gaycalgary.com
DTSTAMP:20101030T000000
DTSTART:20101030T210000
DTEND:20101030T020000
SUMMARY:Halloween Party
DESCRIPTION:
LOCATION:Calgary Eagle Inc. - Bar
	424a 8th Avenue SE
	Calgary
END:VEVENT
END:VCALENDAR