BEGIN:VCALENDAR
VERSION:2.0
PRODID:-//hacksw/handcal//NONSGML v1.0//EN
BEGIN:VEVENT
UID:noreply@gaycalgary.com
DTSTAMP:20101017T000000
DTSTART:20101017T180000
DTEND:20101017T220000
SUMMARY:Great Chili Cook-Off
DESCRIPTION:
LOCATION:Calgary Eagle Inc. - Bar
	424a 8th Avenue SE
	Calgary
END:VEVENT
END:VCALENDAR