BEGIN:VCALENDAR
VERSION:2.0
PRODID:-//hacksw/handcal//NONSGML v1.0//EN
BEGIN:VEVENT
UID:noreply@gaycalgary.com
DTSTAMP:20101106T000000
DTSTART:20101106T142000
DTEND:20101106T142000
SUMMARY:Curling
DESCRIPTION:
LOCATION:North Hill Curling Club
	1201 - 2 Street NW
	Calgary
END:VEVENT
END:VCALENDAR