BEGIN:VCALENDAR
VERSION:2.0
PRODID:-//hacksw/handcal//NONSGML v1.0//EN
BEGIN:VEVENT
UID:noreply@gaycalgary.com
DTSTAMP:20101017T000000
DTSTART:20101017T121500
DTEND:20101017T134500
SUMMARY:Volleyball (Int/Competitive)
DESCRIPTION:
LOCATION:West Hillhurst Community Center
	1940 6th Avenue NW
	Calgary
END:VEVENT
END:VCALENDAR