BEGIN:VCALENDAR
VERSION:2.0
PRODID:-//hacksw/handcal//NONSGML v1.0//EN
BEGIN:VEVENT
UID:noreply@gaycalgary.com
DTSTAMP:20101105T000000
DTSTART:20101105T190000
DTEND:20101105T190000
SUMMARY:Volleyball (Recreational)
DESCRIPTION:
LOCATION:Stanley Jones School
	950 - 6 St NE
	Calgary
END:VEVENT
END:VCALENDAR