BEGIN:VCALENDAR
VERSION:2.0
PRODID:-//hacksw/handcal//NONSGML v1.0//EN
BEGIN:VEVENT
UID:noreply@gaycalgary.com
DTSTAMP:20080302T000000
DTSTART:20080302T140000
DTEND:20080302T140000
SUMMARY:TTIQ
DESCRIPTION:Support and education for all transsexual\, transgendered\, intersexed\, two-sprited adn questioning individuals.
LOCATION:Pride Centre of Edmonton
	95A Street and 111 Avenue
END:VEVENT
END:VCALENDAR