BEGIN:VCALENDAR
VERSION:2.0
PRODID:-//hacksw/handcal//NONSGML v1.0//EN
BEGIN:VEVENT
UID:noreply@gaycalgary.com
DTSTAMP:20101103T000000
DTSTART:20101103T190000
DTEND:20101103T190000
SUMMARY:Absolutely Smashing! Badminton
DESCRIPTION:
LOCATION:St. Martha School
	6020 - 4 Avenue NE
	Calgary
END:VEVENT
END:VCALENDAR